BEGIN:VCALENDAR
VERSION:2.0
PRODID:-//Explore White Rock - ECPv5.14.2.1//NONSGML v1.0//EN
CALSCALE:GREGORIAN
METHOD:PUBLISH
X-WR-CALNAME:Explore White Rock
X-ORIGINAL-URL:https://dev.explorewhiterock.com
X-WR-CALDESC:Events for Explore White Rock
BEGIN:VTIMEZONE
TZID:America/Vancouver
BEGIN:DAYLIGHT
TZOFFSETFROM:-0800
TZOFFSETTO:-0700
TZNAME:PDT
DTSTART:20180311T100000
END:DAYLIGHT
BEGIN:STANDARD
TZOFFSETFROM:-0700
TZOFFSETTO:-0800
TZNAME:PST
DTSTART:20181104T090000
END:STANDARD
END:VTIMEZONE
BEGIN:VEVENT
DTSTART;TZID=America/Vancouver:20180317T190000
DTEND;TZID=America/Vancouver:20180317T220000
DTSTAMP:20260423T000057
CREATED:20180113T230645Z
LAST-MODIFIED:20180120T220517Z
UID:2517-1521313200-1521324000@dev.explorewhiterock.com
SUMMARY:Pat Chessell Band
DESCRIPTION:The Guinness will be flowing for the hottest St. Patricks Day Celebration in town\, as the Pat Chessell Band fires up Blue Frog Studios for a foot-stomping\, hand-clapping IRISH SHOW. Pat will be releasing his new album “I Confess” this night. \nPat Chessell has made a name for himself as one of the most exciting live acts on the Vancouver music scene. His passionate\, smoky vocals are complemented by Celtic fuelled sounds that stretch into influences of roots\, folk\, and alt-country. The Vancouver based folksinger began his career at a young age\, performing as a guest with Danny Burns of the legendary Irish group\, The Wolfhounds. \nChessell gained popularity being a featured act at the Irish Pavilion during the 2010 Olympics; he has since performed in such festivals as West Vancouver’s Harmony Arts\, Celtic Fest Vancouver\, Canadian Rockies Kitchen Party\, and Surrey Fusion Festival\, to name just a few. He has been the opening act for the likes of Jim Byrnes\, Derek Warfield and the Young Wolfe Tones\, and The Town Pants\, among others. \nFrom festivals to corporate shows\, Pat Chessell’s shows have proven to be a hit with all ages. He has gained himself a loyal\, growing fan base due to his stage presence\, talent and high energy. Chessell’s backup band consists of the fast\, fiery fiddle playing of Andrea Taylor (ex­Clumsy Lovers)\, the bouzouki playing of Nathan Powell and the tight rhythm section of Rick Chapman and Tim Renaud\, on drums and bass respectively.
URL:https://dev.explorewhiterock.com/event/2517/
LOCATION:Blue Frog Studio\, 1328 Johnston Road\, White Rock\, BC\, V4B 3Z2\, Canada
CATEGORIES:Music
END:VEVENT
END:VCALENDAR