BEGIN:VCALENDAR
VERSION:2.0
PRODID:-//Explore White Rock - ECPv5.14.2.1//NONSGML v1.0//EN
CALSCALE:GREGORIAN
METHOD:PUBLISH
X-WR-CALNAME:Explore White Rock
X-ORIGINAL-URL:https://dev.explorewhiterock.com
X-WR-CALDESC:Events for Explore White Rock
BEGIN:VTIMEZONE
TZID:America/Vancouver
BEGIN:DAYLIGHT
TZOFFSETFROM:-0800
TZOFFSETTO:-0700
TZNAME:PDT
DTSTART:20180311T100000
END:DAYLIGHT
BEGIN:STANDARD
TZOFFSETFROM:-0700
TZOFFSETTO:-0800
TZNAME:PST
DTSTART:20181104T090000
END:STANDARD
END:VTIMEZONE
BEGIN:VEVENT
DTSTART;TZID=America/Vancouver:20180427T200000
DTEND;TZID=America/Vancouver:20180427T220000
DTSTAMP:20260423T141906
CREATED:20180320T202621Z
LAST-MODIFIED:20180320T202621Z
UID:2726-1524859200-1524866400@dev.explorewhiterock.com
SUMMARY:A Special Evening with Jim Byrnes
DESCRIPTION:Blue Frog Studios is proud to host a special concert with JUNO AWARD\nwinner JIM BYRNES.  Jim’s evocative\, smoky vocals and gutsy blues guitar weave together to create a unique sound that has all but vanished from today’s world. \nJim Byrnes needs no introduction. From his first professional gig in 1964\, over the years\, he has had the great good fortune to appear with a virtual who’s who of the blues such as Muddy Waters\, John Lee Hooker\, Taj Mahal and Robert Cray. \nJim Byrnes’ fame as an actor has grown immeasurably from his too-numerous-to-mention TV and movie roles\, highlights including television’s Wiseguy and Highlander series and his national variety show\, The Jim Byrnes Show. Jim’s first love\, however\, is the Blues. \nBe part of this extraordinary opportunity to experience an up close & personal concert with Jim Byrnes. His shows sell out very fast.
URL:https://dev.explorewhiterock.com/event/a-special-evening-with-jim-byrnes-2/
LOCATION:Blue Frog Studio\, 1328 Johnston Road\, White Rock\, BC\, V4B 3Z2\, Canada
CATEGORIES:Music
END:VEVENT
END:VCALENDAR