BEGIN:VCALENDAR
VERSION:2.0
PRODID:-//Explore White Rock - ECPv5.14.2.1//NONSGML v1.0//EN
CALSCALE:GREGORIAN
METHOD:PUBLISH
X-WR-CALNAME:Explore White Rock
X-ORIGINAL-URL:https://dev.explorewhiterock.com
X-WR-CALDESC:Events for Explore White Rock
BEGIN:VTIMEZONE
TZID:America/Vancouver
BEGIN:DAYLIGHT
TZOFFSETFROM:-0800
TZOFFSETTO:-0700
TZNAME:PDT
DTSTART:20190310T100000
END:DAYLIGHT
BEGIN:STANDARD
TZOFFSETFROM:-0700
TZOFFSETTO:-0800
TZNAME:PST
DTSTART:20191103T090000
END:STANDARD
END:VTIMEZONE
BEGIN:VEVENT
DTSTART;TZID=America/Vancouver:20190511T211500
DTEND;TZID=America/Vancouver:20190511T211500
DTSTAMP:20260421T102254
CREATED:20190507T171949Z
LAST-MODIFIED:20190507T171949Z
UID:4800-1557609300-1557609300@dev.explorewhiterock.com
SUMMARY:Alfie Zappacosta & His Amazing Band - Live at Blue Frog Studios
DESCRIPTION:Blue Frog Studios welcomes one of the greatest singers anywhere\, Alfie Zappacosta for a very special evening of music. This concert features his full band including Grammy winning Tom Keenlyside on saxophone\, Steve Soucy on Keyboards\, Kerry Galloway on Bass\, and Phil Robertson on drums. \nMay 11 – Doors Open 8:45pm | Show 9:15 pm
URL:https://dev.explorewhiterock.com/event/alfie-zappacosta-his-amazing-band-live-at-blue-frog-studios/
LOCATION:Blue Frog Studio\, 1328 Johnston Road\, White Rock\, BC\, V4B 3Z2\, Canada
CATEGORIES:Music
END:VEVENT
END:VCALENDAR