BEGIN:VCALENDAR
VERSION:2.0
PRODID:-//Explore White Rock - ECPv5.14.2.1//NONSGML v1.0//EN
CALSCALE:GREGORIAN
METHOD:PUBLISH
X-WR-CALNAME:Explore White Rock
X-ORIGINAL-URL:https://dev.explorewhiterock.com
X-WR-CALDESC:Events for Explore White Rock
BEGIN:VTIMEZONE
TZID:America/Vancouver
BEGIN:DAYLIGHT
TZOFFSETFROM:-0800
TZOFFSETTO:-0700
TZNAME:PDT
DTSTART:20200308T100000
END:DAYLIGHT
BEGIN:STANDARD
TZOFFSETFROM:-0700
TZOFFSETTO:-0800
TZNAME:PST
DTSTART:20201101T090000
END:STANDARD
END:VTIMEZONE
BEGIN:VEVENT
DTSTART;VALUE=DATE:20200306
DTEND;VALUE=DATE:20200307
DTSTAMP:20260421T115935
CREATED:20200207T001956Z
LAST-MODIFIED:20200207T001956Z
UID:5915-1583452800-1583539199@dev.explorewhiterock.com
SUMMARY:A&M Grands - Duelling Pianos With a Twist
DESCRIPTION:A&M Grands have transformed the ‘Dueling Pianos’ experience into something completely different. Combining the zany whit of modern-day Victor Borges with an uncanny knack for imitation of any kind\, genre or voice\, Andrew Johns (Alice Cooper) and Mick Dalla-Vee (Randy Bachman\, BTO) will have you jumping in your seats. Through sheer unparalleled talent and expert use of technology\, you will be astounded at how two people can generate such a full sound. They can handle any requests you will throw at them with unmatched quality and they make it incredibly fun for everyone. It’s NOT just Dueling Pianos – It’s a WHOLE LOT MORE! \nFriday March 6\, 2020 \nDoors 6:00 pm | Music 7:00 pm \nDoors 8:45 pm | Music 9:15 pm
URL:https://dev.explorewhiterock.com/event/am-grands-duelling-pianos-with-a-twist/
LOCATION:Blue Frog Studio\, 1328 Johnston Road\, White Rock\, BC\, V4B 3Z2\, Canada
CATEGORIES:Music
END:VEVENT
END:VCALENDAR