BEGIN:VCALENDAR
VERSION:2.0
PRODID:-//Explore White Rock - ECPv5.14.2.1//NONSGML v1.0//EN
CALSCALE:GREGORIAN
METHOD:PUBLISH
X-WR-CALNAME:Explore White Rock
X-ORIGINAL-URL:https://dev.explorewhiterock.com
X-WR-CALDESC:Events for Explore White Rock
BEGIN:VTIMEZONE
TZID:America/Vancouver
BEGIN:DAYLIGHT
TZOFFSETFROM:-0800
TZOFFSETTO:-0700
TZNAME:PDT
DTSTART:20230312T100000
END:DAYLIGHT
BEGIN:STANDARD
TZOFFSETFROM:-0700
TZOFFSETTO:-0800
TZNAME:PST
DTSTART:20231105T090000
END:STANDARD
END:VTIMEZONE
BEGIN:VEVENT
DTSTART;TZID=America/Vancouver:20231021T193000
DTEND;TZID=America/Vancouver:20231021T213000
DTSTAMP:20260422T010908
CREATED:20230906T235041Z
LAST-MODIFIED:20230906T235041Z
UID:10237-1697916600-1697923800@dev.explorewhiterock.com
SUMMARY:American Rock Legends
DESCRIPTION:Rob Warwick Personal Real Estate Corporation Presents AMERICAN ROCK LEGENDS featuring: Night Moves – The Ultimate tribute to Bob Seger and Centerfield – The Essential Tribute to CCR and John Fogerty on Saturday\, October 21 at the Oceana PARC Playhouse in White Rock. \nAmerican music legend Bob Seger is second to none with more than 30 songs hitting Billboard’s Top 100 and legions of fans around the world! \nNight Moves starring Dan Hare re-creates Seger’s era of peak success\, the 70s and 80s\, when the hits kept rolling out to every rock radio station in the world. Dan has the requisite voice to authentically deliver “Night Moves”\, “Turn the Page”\, “Old Time Rock & Roll”\, “Hollywood Nights” and more.  Night Moves\, with the Look\, the Voice\, the Hits\, is the ultimate tribute to the music of Bob Seger! \nIt is impossible to think of rock and roll without John Fogerty and CCR.  Fogerty is one of the most enduring icons of rock music and is still loved by everyone everywhere.  With CCR he charted nine Top-Ten singles and eight gold albums.  He continues to have a successful solo career. \nCenterfield\, starring Dan Hare is the essential tribute to the music of John Fogerty and CCR!  Hare has the chops to authentically re-create the CCR classics and the best of Fogerty’s solo hits including “Travelin’ Band”\, “Midnight Special”\, “Up Around the Bend”\, “Proud Mary”\, “The Old Man Down the Road” and “Fortunate Son”.  Re-live the memories of one of the most loved rock music icons of all time!
URL:https://dev.explorewhiterock.com/event/american-rock-legends/
LOCATION:Oceana PARC Playhouse\, 1532 Johnston Road\, White Rock\, BC\, Canada
CATEGORIES:Music
END:VEVENT
END:VCALENDAR