BEGIN:VCALENDAR
VERSION:2.0
PRODID:-//Explore White Rock - ECPv5.14.2.1//NONSGML v1.0//EN
CALSCALE:GREGORIAN
METHOD:PUBLISH
X-WR-CALNAME:Explore White Rock
X-ORIGINAL-URL:https://dev.explorewhiterock.com
X-WR-CALDESC:Events for Explore White Rock
BEGIN:VTIMEZONE
TZID:America/Vancouver
BEGIN:DAYLIGHT
TZOFFSETFROM:-0800
TZOFFSETTO:-0700
TZNAME:PDT
DTSTART:20180311T100000
END:DAYLIGHT
BEGIN:STANDARD
TZOFFSETFROM:-0700
TZOFFSETTO:-0800
TZNAME:PST
DTSTART:20181104T090000
END:STANDARD
END:VTIMEZONE
BEGIN:VEVENT
DTSTART;TZID=America/Vancouver:20180713T170000
DTEND;TZID=America/Vancouver:20180713T203000
DTSTAMP:20260423T084719
CREATED:20180707T203310Z
LAST-MODIFIED:20180707T203310Z
UID:3267-1531501200-1531513800@dev.explorewhiterock.com
SUMMARY:Barrique Live Music with Trevor Conkey
DESCRIPTION:Come join Barrique for dinner or happy hour and listen to the music of the talented Trevor Conkey!
URL:https://dev.explorewhiterock.com/event/barrique-live-music-with-trevor-conkey/
LOCATION:Barrique\, 15223 Pacific Ave\, White Rock\, BC\, V4B 1P8\, Canada
CATEGORIES:Food & Drink,Music
END:VEVENT
END:VCALENDAR