BEGIN:VCALENDAR
VERSION:2.0
PRODID:-//Explore White Rock - ECPv5.14.2.1//NONSGML v1.0//EN
CALSCALE:GREGORIAN
METHOD:PUBLISH
X-WR-CALNAME:Explore White Rock
X-ORIGINAL-URL:https://dev.explorewhiterock.com
X-WR-CALDESC:Events for Explore White Rock
BEGIN:VTIMEZONE
TZID:America/Vancouver
BEGIN:DAYLIGHT
TZOFFSETFROM:-0800
TZOFFSETTO:-0700
TZNAME:PDT
DTSTART:20200308T100000
END:DAYLIGHT
BEGIN:STANDARD
TZOFFSETFROM:-0700
TZOFFSETTO:-0800
TZNAME:PST
DTSTART:20201101T090000
END:STANDARD
END:VTIMEZONE
BEGIN:VEVENT
DTSTART;TZID=America/Vancouver:20200208T190000
DTEND;TZID=America/Vancouver:20200208T210000
DTSTAMP:20260421T051311
CREATED:20200205T001039Z
LAST-MODIFIED:20200205T001039Z
UID:5844-1581188400-1581195600@dev.explorewhiterock.com
SUMMARY:Bill Coon: The BC Double Quartet - Live at Blue Frog
DESCRIPTION:Guitarist Bill Coon combines the brilliance of a string quartet with the rhythmic drive of a jazz quartet with his album\, Departure. The BC Double Quartet really is a departure for Coon as the music on this recording marries his love of jazz improvising with his passion for arranging and composition. \nSaturday\, February 8\, 2020 \nDoors 6:00 pm | Show 7:00 pm
URL:https://dev.explorewhiterock.com/event/bill-coon-the-bc-double-quartet-live-at-blue-frog/
LOCATION:Blue Frog Studio\, 1328 Johnston Road\, White Rock\, BC\, V4B 3Z2\, Canada
CATEGORIES:Music
END:VEVENT
END:VCALENDAR