BEGIN:VCALENDAR
VERSION:2.0
PRODID:-//Explore White Rock - ECPv5.14.2.1//NONSGML v1.0//EN
CALSCALE:GREGORIAN
METHOD:PUBLISH
X-WR-CALNAME:Explore White Rock
X-ORIGINAL-URL:https://dev.explorewhiterock.com
X-WR-CALDESC:Events for Explore White Rock
BEGIN:VTIMEZONE
TZID:America/Vancouver
BEGIN:DAYLIGHT
TZOFFSETFROM:-0800
TZOFFSETTO:-0700
TZNAME:PDT
DTSTART:20180311T100000
END:DAYLIGHT
BEGIN:STANDARD
TZOFFSETFROM:-0700
TZOFFSETTO:-0800
TZNAME:PST
DTSTART:20181104T090000
END:STANDARD
END:VTIMEZONE
BEGIN:VEVENT
DTSTART;TZID=America/Vancouver:20180505T190000
DTEND;TZID=America/Vancouver:20180505T210000
DTSTAMP:20260423T143311
CREATED:20180328T220643Z
LAST-MODIFIED:20180328T220644Z
UID:2755-1525546800-1525554000@dev.explorewhiterock.com
SUMMARY:Buskers Festival - Grande Finale
DESCRIPTION:The Buskers Festival will finish with a ticketed event at Coast Capital Playhouse.  The event features Juno nominated comedian Ivan Decker\, an A Capella Group and a circus performance. It will be an evening of wonder\, amazement and laughter. \nCoast Capital Playhouse\n7:00 – 9:00 p.m.\nTickets $15
URL:https://dev.explorewhiterock.com/event/buskers-festival-grande-finale/
LOCATION:Coast Capital Playhouse  1532 Johnston Rd  White Rock\, BC – Canada\, 1532 Johnston Rd \, White Rock\, British Columbia\, V4B 3Z7\, Canada
CATEGORIES:Art,Family,Music
END:VEVENT
END:VCALENDAR