BEGIN:VCALENDAR
VERSION:2.0
PRODID:-//Explore White Rock - ECPv5.14.2.1//NONSGML v1.0//EN
CALSCALE:GREGORIAN
METHOD:PUBLISH
X-WR-CALNAME:Explore White Rock
X-ORIGINAL-URL:https://dev.explorewhiterock.com
X-WR-CALDESC:Events for Explore White Rock
BEGIN:VTIMEZONE
TZID:America/Vancouver
BEGIN:DAYLIGHT
TZOFFSETFROM:-0800
TZOFFSETTO:-0700
TZNAME:PDT
DTSTART:20180311T100000
END:DAYLIGHT
BEGIN:STANDARD
TZOFFSETFROM:-0700
TZOFFSETTO:-0800
TZNAME:PST
DTSTART:20181104T090000
END:STANDARD
END:VTIMEZONE
BEGIN:VEVENT
DTSTART;TZID=America/Vancouver:20180517T190000
DTEND;TZID=America/Vancouver:20180517T220000
DTSTAMP:20260423T050101
CREATED:20180420T164122Z
LAST-MODIFIED:20180420T164122Z
UID:2806-1526583600-1526594400@dev.explorewhiterock.com
SUMMARY:Colin Linden
DESCRIPTION:Colin Linden is a genuine renaissance man of roots music. He’s a singer and songwriter of great skill\, an in-demand and prolific record producer (Bruce Cockburn\, Tom Wilson\, Colin James)\, a sideman to the stars as guitarist for the likes of Bruce Cockburn\, Emmylou Harris\, and Robert Plant and Alison Krauss\, and\, for the past decade\, a member of the highly successful trio\, Blackie and the Rodeo Kings. \nAt last count\, the total of recordings on which he has played approaches 400\, while over 100 albums bear the “Produced by Colin Linden” credit.\n​\nColin’s songs have been covered by The Band\, The Blind Boys of Alabama\, Keb’ Mo’\, and Colin James\, and his well-stocked trophy case includes seven Juno\, multiple Maple Blues Awards\, and a Toronto Arts Award. He was nominated for a Grammy Award for the star-studded A Tribute To Howlin’ Wolf CD\, and was involved in the ground-breaking O Brother Where Art Thou phenomenon. Linden has a well-deserved reputation as a slide guitar virtuoso of real originality\, and his riveting slide work can be heard on albums from such artists as Cassandra Wilson\, The Rankin Family and Whitey Johnson\, the hit ABC TV series “NASHVILLE”\, and on his own sizeable solo catalogue. \n​One of the favourite concerts at Blue Frog in 2017.  Don’t miss this icon.
URL:https://dev.explorewhiterock.com/event/colin-linden-2/
LOCATION:Blue Frog Studio\, 1328 Johnston Road\, White Rock\, BC\, V4B 3Z2\, Canada
CATEGORIES:Music
END:VEVENT
END:VCALENDAR