BEGIN:VCALENDAR
VERSION:2.0
PRODID:-//Explore White Rock - ECPv5.14.2.1//NONSGML v1.0//EN
CALSCALE:GREGORIAN
METHOD:PUBLISH
X-WR-CALNAME:Explore White Rock
X-ORIGINAL-URL:https://dev.explorewhiterock.com
X-WR-CALDESC:Events for Explore White Rock
BEGIN:VTIMEZONE
TZID:America/Vancouver
BEGIN:DAYLIGHT
TZOFFSETFROM:-0800
TZOFFSETTO:-0700
TZNAME:PDT
DTSTART:20190310T100000
END:DAYLIGHT
BEGIN:STANDARD
TZOFFSETFROM:-0700
TZOFFSETTO:-0800
TZNAME:PST
DTSTART:20191103T090000
END:STANDARD
END:VTIMEZONE
BEGIN:VEVENT
DTSTART;VALUE=DATE:20190310
DTEND;VALUE=DATE:20190311
DTSTAMP:20260421T101723
CREATED:20190107T221529Z
LAST-MODIFIED:20190107T221529Z
UID:4505-1552176000-1552262399@dev.explorewhiterock.com
SUMMARY:Countermeasure - Next Level A Capella: Live at Blue Frog Studios
DESCRIPTION:Get ready for next-level a cappella with Countermeasure!  With smooth harmonies\,  joyful performances and infectious energy\, Countermeasure has earned standing ovations and critical acclaim worldwide. Featuring 12 of Canada’s top vocal talents led by award-winning composer/arranger Aaron Jensen\, the group has shared stages with a cappella giants including Naturally 7\, The Swingle Singers and top 40 stars like Corey Hart and Blue Rodeo.  They perform innovative arrangements of pop favourites\, classic jazz standards\, and original songs including “Takin’ it Home”\, “Life is Fine”\, “Fox in the Field”\, “I’ve Got You Under My Skin”\, “Lovers in a Dangerous Time”\, “London Bells”\, “Train the ‘A’ Take” and “Made to Measure”.  Their diverse songbook has equipped the group to headline international choral concerts\, play the main stage at jazz festivals and entice club-goers onto the dance floor.\nDOORS 6:00 PM  •  SHOW 7:00 PM  
URL:https://dev.explorewhiterock.com/event/countermeasure-next-level-a-capella-live-at-blue-frog-studios/
LOCATION:Blue Frog Studio\, 1328 Johnston Road\, White Rock\, BC\, V4B 3Z2\, Canada
CATEGORIES:Music
END:VEVENT
END:VCALENDAR