BEGIN:VCALENDAR
VERSION:2.0
PRODID:-//Explore White Rock - ECPv5.14.2.1//NONSGML v1.0//EN
CALSCALE:GREGORIAN
METHOD:PUBLISH
X-WR-CALNAME:Explore White Rock
X-ORIGINAL-URL:https://dev.explorewhiterock.com
X-WR-CALDESC:Events for Explore White Rock
BEGIN:VTIMEZONE
TZID:America/Vancouver
BEGIN:DAYLIGHT
TZOFFSETFROM:-0800
TZOFFSETTO:-0700
TZNAME:PDT
DTSTART:20180311T100000
END:DAYLIGHT
BEGIN:STANDARD
TZOFFSETFROM:-0700
TZOFFSETTO:-0800
TZNAME:PST
DTSTART:20181104T090000
END:STANDARD
END:VTIMEZONE
BEGIN:VEVENT
DTSTART;TZID=America/Vancouver:20180302T180000
DTEND;TZID=America/Vancouver:20180302T220000
DTSTAMP:20260423T000615
CREATED:20180113T223053Z
LAST-MODIFIED:20180113T223053Z
UID:2499-1520013600-1520028000@dev.explorewhiterock.com
SUMMARY:Country Queens with Bonnie Kilroe & Her Kicking Country Band
DESCRIPTION:When Patsy Cline\, Lorretta Lynn\, Crystal Gayle and Dolly Parton take to the stage it’s a sure thing that the queens of Nashville have arrived!  With BONNIE KILROE’S COUNTRY QUEENS you will see and hear these divas of the Grand Ole Opry in a way you could never have imagined!  This incredible\, crazy-talented artist really delivers the goods.\nBONNIE KILROE brings to life all of your favourite female country music legends. She looks like them\, talks like them\, and (most importantly!) sings like them\, too! If you love country and that love swings in favor of the ladies of country\, this is definitely the show for you.\nAlways seeking to thrill and delight\, BONNIE KILROE takes full advantage of multi-media to create a 3D extravaganza of music and song\, video and physical comedy.  Audience participation is encouraged\, adding a unique element of novelty and surprise.  With striking looks\, versatile vocal talents and natural comic timing\, BONNIE KILROE’S COUNTRY QUEENS is sure to be a mesmerizing feast for your senses.
URL:https://dev.explorewhiterock.com/event/country-queens-with-bonnie-kilroe-her-kicking-country-band/
LOCATION:Blue Frog Studio\, 1328 Johnston Road\, White Rock\, BC\, V4B 3Z2\, Canada
CATEGORIES:Music
END:VEVENT
END:VCALENDAR