BEGIN:VCALENDAR
VERSION:2.0
PRODID:-//Explore White Rock - ECPv5.14.2.1//NONSGML v1.0//EN
CALSCALE:GREGORIAN
METHOD:PUBLISH
X-WR-CALNAME:Explore White Rock
X-ORIGINAL-URL:https://dev.explorewhiterock.com
X-WR-CALDESC:Events for Explore White Rock
BEGIN:VTIMEZONE
TZID:America/Vancouver
BEGIN:DAYLIGHT
TZOFFSETFROM:-0800
TZOFFSETTO:-0700
TZNAME:PDT
DTSTART:20190310T100000
END:DAYLIGHT
BEGIN:STANDARD
TZOFFSETFROM:-0700
TZOFFSETTO:-0800
TZNAME:PST
DTSTART:20191103T090000
END:STANDARD
END:VTIMEZONE
BEGIN:VEVENT
DTSTART;TZID=America/Vancouver:20190607T190000
DTEND;TZID=America/Vancouver:20190607T190000
DTSTAMP:20260421T101738
CREATED:20190507T172836Z
LAST-MODIFIED:20190507T172836Z
UID:4810-1559934000-1559934000@dev.explorewhiterock.com
SUMMARY:David Gogo and Steve Mariner - Live at Blue Frog Studios
DESCRIPTION:Take two of Canada’s top blues entertainers and put them on a stage together and anything can happen. Watch out for antics\, back stories\, and some fabulous music as David Gogo and Steve Marriner team up for a once in a lifetime experience with their acoustical show. \nJune 7 – 7:00pm and 9:15pm.
URL:https://dev.explorewhiterock.com/event/david-gogo-and-steve-mariner-live-at-blue-frog-studios/
LOCATION:Blue Frog Studio\, 1328 Johnston Road\, White Rock\, BC\, V4B 3Z2\, Canada
CATEGORIES:Music
END:VEVENT
END:VCALENDAR