BEGIN:VCALENDAR
VERSION:2.0
PRODID:-//Explore White Rock - ECPv5.14.2.1//NONSGML v1.0//EN
CALSCALE:GREGORIAN
METHOD:PUBLISH
X-WR-CALNAME:Explore White Rock
X-ORIGINAL-URL:https://dev.explorewhiterock.com
X-WR-CALDESC:Events for Explore White Rock
BEGIN:VTIMEZONE
TZID:America/Vancouver
BEGIN:DAYLIGHT
TZOFFSETFROM:-0800
TZOFFSETTO:-0700
TZNAME:PDT
DTSTART:20180311T100000
END:DAYLIGHT
BEGIN:STANDARD
TZOFFSETFROM:-0700
TZOFFSETTO:-0800
TZNAME:PST
DTSTART:20181104T090000
END:STANDARD
END:VTIMEZONE
BEGIN:VEVENT
DTSTART;TZID=America/Vancouver:20180615T200000
DTEND;TZID=America/Vancouver:20180615T223000
DTSTAMP:20260423T031136
CREATED:20180420T164808Z
LAST-MODIFIED:20180420T164808Z
UID:2812-1529092800-1529101800@dev.explorewhiterock.com
SUMMARY:David Gogo
DESCRIPTION:David Gogo is one of Canada’s hardest working and most prolific blues guitar virtuosos\, and he has a string of remarkable accomplishments to show for itHe has earned four JUNO nominations\, the 2012 Western Canadian Music Award for Blues Recording of the Year\, the CBC Saturday Night Blues’ Great Canadian Blues Award for a lifetime contribution to the blues in Canada\, and has twice been named Maple Blues Guitarist of the Year. \nOver the years\, David has played on stage with Johnny Winter\, Otis Rush\, Albert Collins and Bo Diddley and has opened for George Thorogood\, ZZ Top\, The Tragicially Hip\, Buddy Guy\, Little Feat and Jimmy Vaughan. He performed as the supporting act for blues legend B.B. King for the third time in his career\, this time at the Port Theatre in his hometown of Nanaimo\, BC.
URL:https://dev.explorewhiterock.com/event/david-gogo/
LOCATION:Blue Frog Studio\, 1328 Johnston Road\, White Rock\, BC\, V4B 3Z2\, Canada
CATEGORIES:Music
END:VEVENT
END:VCALENDAR