BEGIN:VCALENDAR
VERSION:2.0
PRODID:-//Explore White Rock - ECPv5.14.2.1//NONSGML v1.0//EN
CALSCALE:GREGORIAN
METHOD:PUBLISH
X-WR-CALNAME:Explore White Rock
X-ORIGINAL-URL:https://dev.explorewhiterock.com
X-WR-CALDESC:Events for Explore White Rock
BEGIN:VTIMEZONE
TZID:America/Vancouver
BEGIN:DAYLIGHT
TZOFFSETFROM:-0800
TZOFFSETTO:-0700
TZNAME:PDT
DTSTART:20180311T100000
END:DAYLIGHT
BEGIN:STANDARD
TZOFFSETFROM:-0700
TZOFFSETTO:-0800
TZNAME:PST
DTSTART:20181104T090000
END:STANDARD
END:VTIMEZONE
BEGIN:VEVENT
DTSTART;TZID=America/Vancouver:20180707T190000
DTEND;TZID=America/Vancouver:20180707T220000
DTSTAMP:20260423T182416
CREATED:20180519T163900Z
LAST-MODIFIED:20210513T215145Z
UID:2928-1530990000-1531000800@dev.explorewhiterock.com
SUMMARY:Gabriel Palatchi Trio
DESCRIPTION:CD RELEASE “Made in Canada” filmed and recorded at Blue Frog Studios.\nOne of our highlight concerts of 2017 was the Gabriel Palatchi Trio as they completed their cross-Canada summer tour with a special concert that was filmed for a live concert CD/DVD.\nBlue Frog Studios is excited to bring back the Gabriel Palatchi Trio for a return engagement with their CD Release of this legendary concert. Join Argentinian pianist\, composer and Billboard Magazine Emerging Artist Gabriel Palatchi for an electic musical journey.\nIt is impossible to leave a Gabriel Palatchi performance unsatisfied. Energy and passion\, combined with skill\, and a true love for music\, has resulted in a dynamic musical juggernaut. His music is an original blend of different genres such as Latin Jazz\, Tango\, Funk\, Gypsy\, Reggae\, Samba and Electronic\, a representation of the many cultures that have influenced his music.\nGabriel has studied piano under many great teachers of Blues\, Tango\, Jazz and Latin Jazz\, including the world-renowned pianist “Chucho” Valdez. Gabriel continues to travel extensively\, performing and composing throughout the world.\nHis music is being played on radio stations all over the world and has been reviewed and featured on the Latin Jazz Network\, Ejazznews\, Rolling Stone Magazine\, The Toronto Star\, and many others. The band has performed at international music festivals such as the Vancouver Jazz Festival\, Victoria Jazz Festival\, Quebec City Jazz Festival\, Waterloo Jazz Festival\, Kaslo Jazz Festival\, Puerto Morelos Music Festival and many others.\nJoining Gabriel will be Kerry Galloway on bass and Rueben Spyker on drums.\nPRESS CLIPPINGS.\n“…Our entire audience had to keep picking their jaws up off the floor…”\n– Robson Valley Music Festival\n“…One of the new young lions of latin jazz…”\n– www.ejazznews.com\n“… one of the best musicians of the moment!”\n– Jazz Caribe\n“…Their live performance awed the crowds and left people wanting more..”\n– Kaslo Jazz Etc Festival\n“…genre-bending eclectic and multi-cultural Trivolution\, a vibrant and varied musical package“…\n– www.allaboutjazz.com
URL:https://dev.explorewhiterock.com/event/gabriel-palatchi-trio-2/
LOCATION:Blue Frog Studio\, 1328 Johnston Road\, White Rock\, BC\, V4B 3Z2\, Canada
CATEGORIES:Music
END:VEVENT
END:VCALENDAR