BEGIN:VCALENDAR
VERSION:2.0
PRODID:-//Explore White Rock - ECPv5.14.2.1//NONSGML v1.0//EN
CALSCALE:GREGORIAN
METHOD:PUBLISH
X-WR-CALNAME:Explore White Rock
X-ORIGINAL-URL:https://dev.explorewhiterock.com
X-WR-CALDESC:Events for Explore White Rock
BEGIN:VTIMEZONE
TZID:America/Vancouver
BEGIN:DAYLIGHT
TZOFFSETFROM:-0800
TZOFFSETTO:-0700
TZNAME:PDT
DTSTART:20230312T100000
END:DAYLIGHT
BEGIN:STANDARD
TZOFFSETFROM:-0700
TZOFFSETTO:-0800
TZNAME:PST
DTSTART:20231105T090000
END:STANDARD
END:VTIMEZONE
BEGIN:VEVENT
DTSTART;TZID=America/Vancouver:20230723T190000
DTEND;TZID=America/Vancouver:20230723T210000
DTSTAMP:20260419T054200
CREATED:20230716T180329Z
LAST-MODIFIED:20230716T180329Z
UID:10164-1690138800-1690146000@dev.explorewhiterock.com
SUMMARY:Golden Delicious | White Rock Players Club
DESCRIPTION:GOLDEN DELICIOUS ~ when basketball obsessed Aleks moves across the street\, Asian-Canadian teen Jake finds himself trying out for the basketball team to get his attention\, in this classic ‘coming of age’ drama in the digital age. \nWhite Rock Pride Society’s special screening of feature film GOLDEN DELICIOUS from Vancouver-based director Jason Karman. 
URL:https://dev.explorewhiterock.com/event/golden-delicious-white-rock-players-club/
LOCATION:Oceana PARC Playhouse\, 1532 Johnston Road\, White Rock\, BC\, Canada
CATEGORIES:Theatre
END:VEVENT
END:VCALENDAR