BEGIN:VCALENDAR
VERSION:2.0
PRODID:-//Explore White Rock - ECPv5.14.2.1//NONSGML v1.0//EN
CALSCALE:GREGORIAN
METHOD:PUBLISH
X-WR-CALNAME:Explore White Rock
X-ORIGINAL-URL:https://dev.explorewhiterock.com
X-WR-CALDESC:Events for Explore White Rock
BEGIN:VTIMEZONE
TZID:America/Vancouver
BEGIN:DAYLIGHT
TZOFFSETFROM:-0800
TZOFFSETTO:-0700
TZNAME:PDT
DTSTART:20190310T100000
END:DAYLIGHT
BEGIN:STANDARD
TZOFFSETFROM:-0700
TZOFFSETTO:-0800
TZNAME:PST
DTSTART:20191103T090000
END:STANDARD
END:VTIMEZONE
BEGIN:VEVENT
DTSTART;TZID=America/Vancouver:20190510T211500
DTEND;TZID=America/Vancouver:20190510T211500
DTSTAMP:20260421T120351
CREATED:20190507T171751Z
LAST-MODIFIED:20190507T171751Z
UID:4798-1557522900-1557522900@dev.explorewhiterock.com
SUMMARY:Harpdog Brown & the Uptown Blues Band - Live at Blue Frog Studios
DESCRIPTION:Canada’s Classic Bluesman\, Harpdog Brown has a brand new album out. It’s called For Love & Money and it’s unlike anything you’ve heard from Dog! Produced by JUNO Award winner Steve Dawson\, it’s a little bit Chicago and a whole lotta New Orleans and it is guaranteed to move ya!  And the Official Lower Mainland Album Release Party right here at the Blue Frog! \nHarpdog has assembled a wicked seven-piece band just for this special evening and you’re in for a treat! They will be performing the whole album for you along with a little storytelling in between – as you would expect from Dog. You won’t want to miss this! \nMay 10 – DOORS 8:45 PM | SHOW 9:15 PM
URL:https://dev.explorewhiterock.com/event/harpdog-brown-the-uptown-blues-band-live-at-blue-frog-studios/
LOCATION:Blue Frog Studio\, 1328 Johnston Road\, White Rock\, BC\, V4B 3Z2\, Canada
CATEGORIES:Music
END:VEVENT
END:VCALENDAR