BEGIN:VCALENDAR
VERSION:2.0
PRODID:-//Explore White Rock - ECPv5.14.2.1//NONSGML v1.0//EN
CALSCALE:GREGORIAN
METHOD:PUBLISH
X-WR-CALNAME:Explore White Rock
X-ORIGINAL-URL:https://dev.explorewhiterock.com
X-WR-CALDESC:Events for Explore White Rock
BEGIN:VTIMEZONE
TZID:America/Vancouver
BEGIN:DAYLIGHT
TZOFFSETFROM:-0800
TZOFFSETTO:-0700
TZNAME:PDT
DTSTART:20190310T100000
END:DAYLIGHT
BEGIN:STANDARD
TZOFFSETFROM:-0700
TZOFFSETTO:-0800
TZNAME:PST
DTSTART:20191103T090000
END:STANDARD
END:VTIMEZONE
BEGIN:VEVENT
DTSTART;VALUE=DATE:20190308
DTEND;VALUE=DATE:20190309
DTSTAMP:20260421T102253
CREATED:20190107T221231Z
LAST-MODIFIED:20190107T221231Z
UID:4501-1552003200-1552089599@dev.explorewhiterock.com
SUMMARY:Kalimba - The Spirit of Earth\, Wind & Fire: Live at Blue Frog Studios
DESCRIPTION:The nationally touring show Kalimba\, The Spirit of Earth Wind and Fire provides an Earth Wind & Fire experience so satisfying it transports audiences back to the excitement of the first time they heard these unforgettable songs.  Lead vocalist\, Thomas “Chazz” Smith\, created Kalimba\, The Spirit of Earth Wind and Fire in 2011 with the vision of honoring the beloved Earth Wind & Fire hits he and millions of others listened to while growing up. The 10-piece organization includes a full horn and rhythm section to reproduce the infectious grooves created by EWF’s Verdine White and Ralph Johnson. In February the loss of EWF’s founder and musical genius\, Maurice White\, left the world mourning\, but Kalimba\, The Spirit of Earth Wind and Fire faithfully honors his work by featuring lush treatments of the soaring vocal harmonies that are the hallmark of Earth Wind & Fire’s music and EWF’s late founder\, musical genius\, Maurice White.  Performances authentically replicate the signature high notes of Maurice White’s sidekick\, Philip Bailey. \nDOORS 6:00 PM  •  SHOW 7:00 PM  \n​\nDOORS 8:45PM  •  SHOW 9:15 PM \n​
URL:https://dev.explorewhiterock.com/event/kalimba-the-spirit-of-earth-wind-fire-live-at-blue-frog-studios/
LOCATION:Blue Frog Studio\, 1328 Johnston Road\, White Rock\, BC\, V4B 3Z2\, Canada
CATEGORIES:Music
END:VEVENT
END:VCALENDAR