BEGIN:VCALENDAR
VERSION:2.0
PRODID:-//Explore White Rock - ECPv5.14.2.1//NONSGML v1.0//EN
CALSCALE:GREGORIAN
METHOD:PUBLISH
X-WR-CALNAME:Explore White Rock
X-ORIGINAL-URL:https://dev.explorewhiterock.com
X-WR-CALDESC:Events for Explore White Rock
BEGIN:VTIMEZONE
TZID:America/Vancouver
BEGIN:DAYLIGHT
TZOFFSETFROM:-0800
TZOFFSETTO:-0700
TZNAME:PDT
DTSTART:20240310T100000
END:DAYLIGHT
BEGIN:STANDARD
TZOFFSETFROM:-0700
TZOFFSETTO:-0800
TZNAME:PST
DTSTART:20241103T090000
END:STANDARD
END:VTIMEZONE
BEGIN:VEVENT
DTSTART;TZID=America/Vancouver:20240322T190000
DTEND;TZID=America/Vancouver:20240322T220000
DTSTAMP:20260421T102307
CREATED:20240306T212811Z
LAST-MODIFIED:20240306T212811Z
UID:10888-1711134000-1711144800@dev.explorewhiterock.com
SUMMARY:Live at Blue Frog: Celebrating the Music of John Prine
DESCRIPTION:Join Steve Mitchell \, Doug Cox\, Tom & Kalissa Landa & Mick Sherlock as they dig into their renditions of songs from the John Prine catalogue and celebrate the man who is perhaps Americana Music’s most celebrated singer/songwriter. Come share the reverence for the brilliant songs of John Prine
URL:https://dev.explorewhiterock.com/event/live-at-blue-frog-celebrating-the-music-of-john-prine/
LOCATION:Blue Frog Studio\, 1328 Johnston Road\, White Rock\, BC\, V4B 3Z2\, Canada
CATEGORIES:Music
END:VEVENT
END:VCALENDAR