BEGIN:VCALENDAR
VERSION:2.0
PRODID:-//Explore White Rock - ECPv5.14.2.1//NONSGML v1.0//EN
CALSCALE:GREGORIAN
METHOD:PUBLISH
X-WR-CALNAME:Explore White Rock
X-ORIGINAL-URL:https://dev.explorewhiterock.com
X-WR-CALDESC:Events for Explore White Rock
BEGIN:VTIMEZONE
TZID:America/Vancouver
BEGIN:DAYLIGHT
TZOFFSETFROM:-0800
TZOFFSETTO:-0700
TZNAME:PDT
DTSTART:20240310T100000
END:DAYLIGHT
BEGIN:STANDARD
TZOFFSETFROM:-0700
TZOFFSETTO:-0800
TZNAME:PST
DTSTART:20241103T090000
END:STANDARD
END:VTIMEZONE
BEGIN:VEVENT
DTSTART;TZID=America/Vancouver:20240405T190000
DTEND;TZID=America/Vancouver:20240405T220000
DTSTAMP:20260421T101724
CREATED:20240306T212303Z
LAST-MODIFIED:20240403T233034Z
UID:10878-1712343600-1712354400@dev.explorewhiterock.com
SUMMARY:Live at Blue Frog: Fantastic Cat
DESCRIPTION:Hailed by Rolling Stone as “a wildly satisfying collection of folk-rock\, country\, Americana\, and good old rock & roll\,” they gleefully careen between genres and decades\, mixing electrified ’60s roots and ’70s AM radio gold as it balances careful craftsmanship and ecstatic abandon in equal measure. THIS SHOW IS INCREDIBLE! If you can make it\, we think you should. \n“The supergroup-you-need-to-know” – Rolling Stone
URL:https://dev.explorewhiterock.com/event/live-at-blue-frog-fantastic-cat/
LOCATION:Blue Frog Studio\, 1328 Johnston Road\, White Rock\, BC\, V4B 3Z2\, Canada
CATEGORIES:Music
END:VEVENT
END:VCALENDAR