BEGIN:VCALENDAR
VERSION:2.0
PRODID:-//Explore White Rock - ECPv5.14.2.1//NONSGML v1.0//EN
CALSCALE:GREGORIAN
METHOD:PUBLISH
X-WR-CALNAME:Explore White Rock
X-ORIGINAL-URL:https://dev.explorewhiterock.com
X-WR-CALDESC:Events for Explore White Rock
BEGIN:VTIMEZONE
TZID:America/Vancouver
BEGIN:DAYLIGHT
TZOFFSETFROM:-0800
TZOFFSETTO:-0700
TZNAME:PDT
DTSTART:20240310T100000
END:DAYLIGHT
BEGIN:STANDARD
TZOFFSETFROM:-0700
TZOFFSETTO:-0800
TZNAME:PST
DTSTART:20241103T090000
END:STANDARD
END:VTIMEZONE
BEGIN:VEVENT
DTSTART;TZID=America/Vancouver:20240508T190000
DTEND;TZID=America/Vancouver:20240508T230000
DTSTAMP:20260422T135026
CREATED:20240528T144321Z
LAST-MODIFIED:20240528T144321Z
UID:11140-1715194800-1715209200@dev.explorewhiterock.com
SUMMARY:Live at Blue Frog: Hands Across the 49th
DESCRIPTION:Experience an unforgettable evening of music and camaraderie at the “HANDS ACROSS the 49th” show ! Fresh from their sold-out performance at the Palm Springs Cultural Center\, we’re excited to present this sensational event in British Columbia\, celebrating the deep-rooted musical synergy between Canada and Southern California. The Funk Monks\, an ensemble of illustrious musicians hailing from both nations\, will headline this exclusive\, one-night event. \nDoors 6:00 | Music 7:00\nDoors 8:45 | Music 9:15
URL:https://dev.explorewhiterock.com/event/live-at-blue-frog-hands-across-the-49th-2/
LOCATION:Blue Frog Studio\, 1328 Johnston Road\, White Rock\, BC\, V4B 3Z2\, Canada
CATEGORIES:Music
END:VEVENT
END:VCALENDAR