BEGIN:VCALENDAR
VERSION:2.0
PRODID:-//Explore White Rock - ECPv5.14.2.1//NONSGML v1.0//EN
CALSCALE:GREGORIAN
METHOD:PUBLISH
X-WR-CALNAME:Explore White Rock
X-ORIGINAL-URL:https://dev.explorewhiterock.com
X-WR-CALDESC:Events for Explore White Rock
BEGIN:VTIMEZONE
TZID:America/Vancouver
BEGIN:DAYLIGHT
TZOFFSETFROM:-0800
TZOFFSETTO:-0700
TZNAME:PDT
DTSTART:20240310T100000
END:DAYLIGHT
BEGIN:STANDARD
TZOFFSETFROM:-0700
TZOFFSETTO:-0800
TZNAME:PST
DTSTART:20241103T090000
END:STANDARD
END:VTIMEZONE
BEGIN:VEVENT
DTSTART;TZID=America/Vancouver:20240413T190000
DTEND;TZID=America/Vancouver:20240413T190000
DTSTAMP:20260421T101711
CREATED:20240403T233420Z
LAST-MODIFIED:20240403T233420Z
UID:11027-1713034800-1713034800@dev.explorewhiterock.com
SUMMARY:Live at Blue Frog: Ladies Sing the Blues
DESCRIPTION:LADIES SING the BLUES has become one of Canada’s most popular shows featuring 4 of the most Amazing Lady Lead Vocalists\, Joani Bye\, Nadine States\, Catherine St Germain & Leslie Harris\, backed by an All-Star Band\, Rob Montgomery & Friends. This concert showcases each one of these Legendary Performers & brings them together on many songs in Angelic 4 Part harmony leaving the audience amazed. This show always sells out fast. \nDoors 6:00 | Music 7:00 || Doors 8:45 | Music 9:15
URL:https://dev.explorewhiterock.com/event/live-at-blue-frog-ladies-sing-the-blues-2/
LOCATION:Blue Frog Studio\, 1328 Johnston Road\, White Rock\, BC\, V4B 3Z2\, Canada
CATEGORIES:Music
END:VEVENT
END:VCALENDAR