BEGIN:VCALENDAR
VERSION:2.0
PRODID:-//Explore White Rock - ECPv5.14.2.1//NONSGML v1.0//EN
CALSCALE:GREGORIAN
METHOD:PUBLISH
X-WR-CALNAME:Explore White Rock
X-ORIGINAL-URL:https://dev.explorewhiterock.com
X-WR-CALDESC:Events for Explore White Rock
BEGIN:VTIMEZONE
TZID:America/Vancouver
BEGIN:DAYLIGHT
TZOFFSETFROM:-0800
TZOFFSETTO:-0700
TZNAME:PDT
DTSTART:20240310T100000
END:DAYLIGHT
BEGIN:STANDARD
TZOFFSETFROM:-0700
TZOFFSETTO:-0800
TZNAME:PST
DTSTART:20241103T090000
END:STANDARD
END:VTIMEZONE
BEGIN:VEVENT
DTSTART;TZID=America/Vancouver:20240316T190000
DTEND;TZID=America/Vancouver:20240316T220000
DTSTAMP:20260421T120352
CREATED:20240306T212713Z
LAST-MODIFIED:20240306T212713Z
UID:10886-1710615600-1710626400@dev.explorewhiterock.com
SUMMARY:Live at Blue Frog: Pat Chessell Band - St. Patrick's Celebration
DESCRIPTION:A Canadian folk singer-songwriter with a heart full of Celtic influences. A blend of haunting melodies\, poignant lyrics\, & rich acoustic instrumentation. Pat Chessell paints vivid musical landscapes from love & loss to resilience & hope. Get ready to be swept away on a soul-stirring journey with this talented troubadour as he shares his heart & soul through the power of Celtic folk music. A perfect Saint Patrick’s Day fit!
URL:https://dev.explorewhiterock.com/event/live-at-blue-frog-pat-chessell-band-st-patricks-celebration/
LOCATION:Blue Frog Studio\, 1328 Johnston Road\, White Rock\, BC\, V4B 3Z2\, Canada
CATEGORIES:Music
END:VEVENT
END:VCALENDAR