BEGIN:VCALENDAR
VERSION:2.0
PRODID:-//Explore White Rock - ECPv5.14.2.1//NONSGML v1.0//EN
CALSCALE:GREGORIAN
METHOD:PUBLISH
X-WR-CALNAME:Explore White Rock
X-ORIGINAL-URL:https://dev.explorewhiterock.com
X-WR-CALDESC:Events for Explore White Rock
BEGIN:VTIMEZONE
TZID:America/Vancouver
BEGIN:DAYLIGHT
TZOFFSETFROM:-0800
TZOFFSETTO:-0700
TZNAME:PDT
DTSTART:20240310T100000
END:DAYLIGHT
BEGIN:STANDARD
TZOFFSETFROM:-0700
TZOFFSETTO:-0800
TZNAME:PST
DTSTART:20241103T090000
END:STANDARD
END:VTIMEZONE
BEGIN:VEVENT
DTSTART;TZID=America/Vancouver:20240308T190000
DTEND;TZID=America/Vancouver:20240308T220000
DTSTAMP:20260421T120039
CREATED:20240306T212416Z
LAST-MODIFIED:20240306T212416Z
UID:10880-1709924400-1709935200@dev.explorewhiterock.com
SUMMARY:Live at Blue Frog: Rick Estrin & the Nightcats
DESCRIPTION:Larger-than-life blues star Rick Estrin has piloted the wildly fun and musically fearless Rick Estrin & The Nightcats for the last decade\, touring the world and proving night after night why they won 2018’s Blues Music Award for Band Of The Year.  \n“Hugely entertaining\, intelligently conceived and executed roots rock with a wickedly cool and otherworldly twist on tradition. Estrin’s harp work is masterful.” –Living Blues
URL:https://dev.explorewhiterock.com/event/live-at-blue-frog-rick-estrin-the-nightcats/
LOCATION:Blue Frog Studio\, 1328 Johnston Road\, White Rock\, BC\, V4B 3Z2\, Canada
CATEGORIES:Music
END:VEVENT
END:VCALENDAR