BEGIN:VCALENDAR
VERSION:2.0
PRODID:-//Explore White Rock - ECPv5.14.2.1//NONSGML v1.0//EN
CALSCALE:GREGORIAN
METHOD:PUBLISH
X-WR-CALNAME:Explore White Rock
X-ORIGINAL-URL:https://dev.explorewhiterock.com
X-WR-CALDESC:Events for Explore White Rock
BEGIN:VTIMEZONE
TZID:America/Vancouver
BEGIN:DAYLIGHT
TZOFFSETFROM:-0800
TZOFFSETTO:-0700
TZNAME:PDT
DTSTART:20240310T100000
END:DAYLIGHT
BEGIN:STANDARD
TZOFFSETFROM:-0700
TZOFFSETTO:-0800
TZNAME:PST
DTSTART:20241103T090000
END:STANDARD
END:VTIMEZONE
BEGIN:VEVENT
DTSTART;TZID=America/Vancouver:20240309T190000
DTEND;TZID=America/Vancouver:20240309T220000
DTSTAMP:20260421T113312
CREATED:20240306T212512Z
LAST-MODIFIED:20240306T212512Z
UID:10882-1710010800-1710021600@dev.explorewhiterock.com
SUMMARY:Live at Blue Frog: The Ostara Project
DESCRIPTION:In February 2022\, Canadian jazz musicians Jodi Proznick and Amanda Tosoff formed The Ostara Project\, gathering seven top female jazz artists to challenge the male-dominated narrative. Their debut album\, featuring compositions from each member\, was a 2022 JUNO nominee. This fluid ensemble amplifies female voices in jazz\, inspiring future generations.
URL:https://dev.explorewhiterock.com/event/live-at-blue-frog-the-ostara-project/
LOCATION:Blue Frog Studio\, 1328 Johnston Road\, White Rock\, BC\, V4B 3Z2\, Canada
CATEGORIES:Music
END:VEVENT
END:VCALENDAR