BEGIN:VCALENDAR
VERSION:2.0
PRODID:-//Explore White Rock - ECPv5.14.2.1//NONSGML v1.0//EN
CALSCALE:GREGORIAN
METHOD:PUBLISH
X-WR-CALNAME:Explore White Rock
X-ORIGINAL-URL:https://dev.explorewhiterock.com
X-WR-CALDESC:Events for Explore White Rock
BEGIN:VTIMEZONE
TZID:America/Vancouver
BEGIN:DAYLIGHT
TZOFFSETFROM:-0800
TZOFFSETTO:-0700
TZNAME:PDT
DTSTART:20240310T100000
END:DAYLIGHT
BEGIN:STANDARD
TZOFFSETFROM:-0700
TZOFFSETTO:-0800
TZNAME:PST
DTSTART:20241103T090000
END:STANDARD
END:VTIMEZONE
BEGIN:VEVENT
DTSTART;TZID=America/Vancouver:20240517T150000
DTEND;TZID=America/Vancouver:20240517T180000
DTSTAMP:20260422T152801
CREATED:20240517T181640Z
LAST-MODIFIED:20240517T181927Z
UID:11122-1715958000-1715968800@dev.explorewhiterock.com
SUMMARY:Meet a Mermaid at the White Rock
DESCRIPTION:Mermaid “Zelda” is putting the ‘fun’ in fundraising.  She will be located next to the White Rock on May 17 from 3:30pm-6:00pm to take photos and sign autographs – face painting too!  All proceeds will go towards the Leukaemia & Lymphoma society of Canada and can be made in cash or by scanning a SQ code on your shell-phone! \nBring your little ones to meet a real life mermaid and experience some magic on the gorgeous beach of White Rock.  Adults are most welcome to come and say “shello” too.
URL:https://dev.explorewhiterock.com/event/meet-a-mermaid-at-the-white-rock/
LOCATION:P’Quals – The white rock
CATEGORIES:Family
END:VEVENT
END:VCALENDAR