BEGIN:VCALENDAR
VERSION:2.0
PRODID:-//Explore White Rock - ECPv5.14.2.1//NONSGML v1.0//EN
CALSCALE:GREGORIAN
METHOD:PUBLISH
X-WR-CALNAME:Explore White Rock
X-ORIGINAL-URL:https://dev.explorewhiterock.com
X-WR-CALDESC:Events for Explore White Rock
BEGIN:VTIMEZONE
TZID:America/Vancouver
BEGIN:DAYLIGHT
TZOFFSETFROM:-0800
TZOFFSETTO:-0700
TZNAME:PDT
DTSTART:20190310T100000
END:DAYLIGHT
BEGIN:STANDARD
TZOFFSETFROM:-0700
TZOFFSETTO:-0800
TZNAME:PST
DTSTART:20191103T090000
END:STANDARD
END:VTIMEZONE
BEGIN:VEVENT
DTSTART;TZID=America/Vancouver:20190525T190000
DTEND;TZID=America/Vancouver:20190525T190000
DTSTAMP:20260421T101924
CREATED:20190507T172259Z
LAST-MODIFIED:20190507T172259Z
UID:4804-1558810800-1558810800@dev.explorewhiterock.com
SUMMARY:Pianorama with Doc Fingers & Diane Lines - Live at Blue Frog Studios
DESCRIPTION:“Pianorama” is the merging of two of the most charismatic performers in Vancouver’s musical entertainment history\, Doc Fingers & Diane Lines.\n \n​Doc and Diane have crafted a show that showcases them doing what they do best\, which is delivering energetic takes of blues\, boogie and classic popular music\, all the while showcasing their command of the 88 keys. \nMay 25 – Doors Open 6:00pm | Show 7:00pm
URL:https://dev.explorewhiterock.com/event/pianorama-with-doc-fingers-diane-lines-live-at-blue-frog-studios/
LOCATION:Blue Frog Studio\, 1328 Johnston Road\, White Rock\, BC\, V4B 3Z2\, Canada
CATEGORIES:Music
END:VEVENT
END:VCALENDAR