BEGIN:VCALENDAR
VERSION:2.0
PRODID:-//Explore White Rock - ECPv5.14.2.1//NONSGML v1.0//EN
CALSCALE:GREGORIAN
METHOD:PUBLISH
X-WR-CALNAME:Explore White Rock
X-ORIGINAL-URL:https://dev.explorewhiterock.com
X-WR-CALDESC:Events for Explore White Rock
BEGIN:VTIMEZONE
TZID:America/Vancouver
BEGIN:DAYLIGHT
TZOFFSETFROM:-0800
TZOFFSETTO:-0700
TZNAME:PDT
DTSTART:20180311T100000
END:DAYLIGHT
BEGIN:STANDARD
TZOFFSETFROM:-0700
TZOFFSETTO:-0800
TZNAME:PST
DTSTART:20181104T090000
END:STANDARD
END:VTIMEZONE
BEGIN:VEVENT
DTSTART;TZID=America/Vancouver:20180713T203000
DTEND;TZID=America/Vancouver:20180713T203000
DTSTAMP:20260423T023823
CREATED:20180712T215114Z
LAST-MODIFIED:20180807T221503Z
UID:3355-1531513800-1531513800@dev.explorewhiterock.com
SUMMARY:Piping the Sun
DESCRIPTION:Every Friday this summer\, join a member of the Crescent Beach Pipe Band on the White Rock Pier at sunset as they will be piping as the sun sets. \nFridays at Dusk (8:30 – 9:30)\nJuly 13 | July 20 | July 27 | August 3 | August 10 | August 17 | August 24 | August 31
URL:https://dev.explorewhiterock.com/event/piping-the-sun/2018-07-13/
LOCATION:White Rock Pier\, White Rock
CATEGORIES:Family,Music
END:VEVENT
END:VCALENDAR