BEGIN:VCALENDAR
VERSION:2.0
PRODID:-//Explore White Rock - ECPv5.14.2.1//NONSGML v1.0//EN
CALSCALE:GREGORIAN
METHOD:PUBLISH
X-WR-CALNAME:Explore White Rock
X-ORIGINAL-URL:https://dev.explorewhiterock.com
X-WR-CALDESC:Events for Explore White Rock
BEGIN:VTIMEZONE
TZID:America/Vancouver
BEGIN:DAYLIGHT
TZOFFSETFROM:-0800
TZOFFSETTO:-0700
TZNAME:PDT
DTSTART:20180311T100000
END:DAYLIGHT
BEGIN:STANDARD
TZOFFSETFROM:-0700
TZOFFSETTO:-0800
TZNAME:PST
DTSTART:20181104T090000
END:STANDARD
END:VTIMEZONE
BEGIN:VEVENT
DTSTART;TZID=America/Vancouver:20180616T190000
DTEND;TZID=America/Vancouver:20180616T203000
DTSTAMP:20260423T050015
CREATED:20180420T165115Z
LAST-MODIFIED:20180420T165115Z
UID:2814-1529175600-1529181000@dev.explorewhiterock.com
SUMMARY:R&B Allstars
DESCRIPTION:They’re back and ready to get Blue Frog hoppin’ again after last year’s SOLDOUT shows. The Legendary R&B Allstars was formed in the late 1970’s as a testament to their love of Classic R&B.  Since their first show opening for Long John Baldry\, the group has shared the stage with James Brown\, War\, Chuck Berry\, Paul Butterfield\, and the Allman Brothers.\nCheck out their video:  https://www.youtube.com/watch?v=4O7DKO_r-tE\nThe Allstars line-up features some of the best in Vancouver talent:\nColin Weinmaster – Trombone\, Arranger\nDavid Steele – Vocals\nJoani Bye – Vocals\nRick Hill – Drums\nTom Keenlyside –Tenor Sax\nAl Lynch – Trumpet\, Vocals\nRussell Marsland – Guitar\, Vocals\nAlex Michie – Saxophone\nAl Davidson – Keyboards\nBilly Mendoza – Bass\, Vocals\nSteve Hilliam – Saxophones\nJohn Pearson – Baritone Sax \nTom Harrison\, Vancouver Province: “R&B is alive and well and living in Vancouver!”\nOne of Vancouver’s Finest and Funkiest…Classic R&B at it’s best!
URL:https://dev.explorewhiterock.com/event/rb-allstars/
LOCATION:Blue Frog Studio\, 1328 Johnston Road\, White Rock\, BC\, V4B 3Z2\, Canada
CATEGORIES:Music
END:VEVENT
END:VCALENDAR