BEGIN:VCALENDAR
VERSION:2.0
PRODID:-//Explore White Rock - ECPv5.14.2.1//NONSGML v1.0//EN
CALSCALE:GREGORIAN
METHOD:PUBLISH
X-WR-CALNAME:Explore White Rock
X-ORIGINAL-URL:https://dev.explorewhiterock.com
X-WR-CALDESC:Events for Explore White Rock
BEGIN:VTIMEZONE
TZID:America/Vancouver
BEGIN:DAYLIGHT
TZOFFSETFROM:-0800
TZOFFSETTO:-0700
TZNAME:PDT
DTSTART:20200308T100000
END:DAYLIGHT
BEGIN:STANDARD
TZOFFSETFROM:-0700
TZOFFSETTO:-0800
TZNAME:PST
DTSTART:20201101T090000
END:STANDARD
END:VTIMEZONE
BEGIN:VEVENT
DTSTART;TZID=America/Vancouver:20200206T130000
DTEND;TZID=America/Vancouver:20200206T170000
DTSTAMP:20260421T033352
CREATED:20200206T234903Z
LAST-MODIFIED:20200207T000328Z
UID:5870-1580994000-1581008400@dev.explorewhiterock.com
SUMMARY:Solo: A Movement
DESCRIPTION:Nela H\, the founder of White Rock / South Surrey’s premier dance education facility\, XBa School of Dance\, will be exhibiting her original acrylics on canvas at the city of White Rock’s pop-up gallery\, Landmark Pop-Uptown Gallery. Choreographer Nela H’s first solo visual art exhibit in White Rock celebrates a lifetime of movement creation\, inspired by her work with dancers\, and her passion for music. \nGallery hours: \nThursday and Friday: 1 pm to 5 pm\nSaturday: 10 am to 5 pm \nSpecial live performance art event – February 21 & 28
URL:https://dev.explorewhiterock.com/event/solo-a-movement/2020-02-06/
LOCATION:Landmark Pop-Uptown Gallery\, 15140 North Bluff Road\, White Rock\, BC\, V4B 1Y6\, Canada
CATEGORIES:Art
GEO:49.0310703;-122.8031044
X-APPLE-STRUCTURED-LOCATION;VALUE=URI;X-ADDRESS=Landmark Pop-Uptown Gallery 15140 North Bluff Road White Rock BC V4B 1Y6 Canada;X-APPLE-RADIUS=500;X-TITLE=15140 North Bluff Road:geo:-122.8031044,49.0310703
END:VEVENT
END:VCALENDAR