BEGIN:VCALENDAR
VERSION:2.0
PRODID:-//Explore White Rock - ECPv5.14.2.1//NONSGML v1.0//EN
CALSCALE:GREGORIAN
METHOD:PUBLISH
X-WR-CALNAME:Explore White Rock
X-ORIGINAL-URL:https://dev.explorewhiterock.com
X-WR-CALDESC:Events for Explore White Rock
BEGIN:VTIMEZONE
TZID:America/Vancouver
BEGIN:DAYLIGHT
TZOFFSETFROM:-0800
TZOFFSETTO:-0700
TZNAME:PDT
DTSTART:20190310T100000
END:DAYLIGHT
BEGIN:STANDARD
TZOFFSETFROM:-0700
TZOFFSETTO:-0800
TZNAME:PST
DTSTART:20191103T090000
END:STANDARD
END:VTIMEZONE
BEGIN:VEVENT
DTSTART;VALUE=DATE:20190607
DTEND;VALUE=DATE:20190610
DTSTAMP:20260421T131656
CREATED:20190215T172542Z
LAST-MODIFIED:20190604T033750Z
UID:4585-1559865600-1560124799@dev.explorewhiterock.com
SUMMARY:Spring Art Show
DESCRIPTION:Celebrate the 60th anniversary of the South Surrey and White Rock Art Society at their first annual Spring Art Show. \nEnjoy hundreds of original artworks in a variety of media and styles by over 60 artists. \nJune 7 – 4pm – 8pm\nJune 8 – 10am – 8pm\nJune 9 – 10am – 5pm \nThe South Surrey and White Rock Art Society (SSWRAS) is a group of artists and supporters. Currently there are over 200 members at various skill levels in oil\, acrylic\, watercolor and mixed media. It’s a supportive group working together to share knowledge\, create educational opportunities for members\, and support those members who wish to sell their art. \nCo-sponsored by the Arts Society and the White Rock Business Improvement Association. \n \n 
URL:https://dev.explorewhiterock.com/event/spring-art-show/
LOCATION:Memorial Park\, 25CV+FH\, White Rock\, BC\, Canada
CATEGORIES:Art
END:VEVENT
END:VCALENDAR