BEGIN:VCALENDAR
VERSION:2.0
PRODID:-//Explore White Rock - ECPv5.14.2.1//NONSGML v1.0//EN
CALSCALE:GREGORIAN
METHOD:PUBLISH
X-WR-CALNAME:Explore White Rock
X-ORIGINAL-URL:https://dev.explorewhiterock.com
X-WR-CALDESC:Events for Explore White Rock
BEGIN:VTIMEZONE
TZID:America/Vancouver
BEGIN:DAYLIGHT
TZOFFSETFROM:-0800
TZOFFSETTO:-0700
TZNAME:PDT
DTSTART:20190310T100000
END:DAYLIGHT
BEGIN:STANDARD
TZOFFSETFROM:-0700
TZOFFSETTO:-0800
TZNAME:PST
DTSTART:20191103T090000
END:STANDARD
END:VTIMEZONE
BEGIN:VEVENT
DTSTART;VALUE=DATE:20190221
DTEND;VALUE=DATE:20190222
DTSTAMP:20260421T102254
CREATED:20190107T220614Z
LAST-MODIFIED:20190107T220614Z
UID:4490-1550707200-1550793599@dev.explorewhiterock.com
SUMMARY:The Day the Music Died - 60th Anniversary Special
DESCRIPTION:On February 3\, 1959\, musicians BUDDY HOLLY\, RITCHIE VALENS and J.P “THE BIG BOPPER” RICHARDSON were killed in a plane crash near Clear Lake\, Iowa after their famous Winter Dance Party concert at the Surf Ballroom. The event later became known as “The Day the Music Died“\, after singer-songwriter Don McLean referred to it as such in his 1971 song “American Pie”. \nNow\, sixty years later\, Blue Frog Studios is proud to host “THE DAY THE MUSIC DIED- 60th ANNIVERSARY SPECIAL”\, starring Nick Stice and his band\, direct from residency at the legendary Memories Theater in Pigeon Forge\, Tennessee. \nFrom the Producers of The Jersey Boys at Blue Frog\, “The Day the Music Died” is a night of music featuring all the hits that shot BUDDY HOLLY to fame from 1957 with “THAT’LL BE THE DAY’ until his tragic death less than two years later on. The show also features a special tribute to RITCHIE VALENS and his big hit “LA BAMBA”\, and THE BIG BOPPERS’ “CHANTILLY LACE” and over 20 of Buddy Holly’s greatest hits including ‘THAT’LL BE THE DAY’\, ‘PEGGY SUE’\, ‘EVERYDAY’\, ‘OH BOY’\, ‘NOT FADE AWAY’\, ‘RAVE ON’ and ‘RAINING IN MY HEART’\, plus a tribute to The Everley Brothers\, Frankie Limon\, The Chantels\, and Connie Francis. \nFebruary 21\, 2019\n​DOORS 6:00 PM  •  SHOW 7:00 PM  – (TICKETS AVAILABLE)   \nFebruary 22\, 2019\n​DOORS 6:00 PM  •  SHOW 7:00 PM – (TICKETS AVAILABLE)  \nDOORS 8:45 PM  •  SHOW 9:15 PM – (TICKETS AVAILABLE)   \nFebruary 23\, 2019\n​DOORS 6:00 PM  •  SHOW 7:00 PM – (SOLD OUT) \nDOORS 8:45 PM  •  SHOW 9:15 PM – (TICKETS AVAILABLE)
URL:https://dev.explorewhiterock.com/event/the-day-the-music-died-60th-anniversary-special/2019-02-21/
LOCATION:Blue Frog Studio\, 1328 Johnston Road\, White Rock\, BC\, V4B 3Z2\, Canada
CATEGORIES:Music
END:VEVENT
END:VCALENDAR