BEGIN:VCALENDAR
VERSION:2.0
PRODID:-//Explore White Rock - ECPv5.14.2.1//NONSGML v1.0//EN
CALSCALE:GREGORIAN
METHOD:PUBLISH
X-WR-CALNAME:Explore White Rock
X-ORIGINAL-URL:https://dev.explorewhiterock.com
X-WR-CALDESC:Events for Explore White Rock
BEGIN:VTIMEZONE
TZID:America/Vancouver
BEGIN:DAYLIGHT
TZOFFSETFROM:-0800
TZOFFSETTO:-0700
TZNAME:PDT
DTSTART:20180311T100000
END:DAYLIGHT
BEGIN:STANDARD
TZOFFSETFROM:-0700
TZOFFSETTO:-0800
TZNAME:PST
DTSTART:20181104T090000
END:STANDARD
END:VTIMEZONE
BEGIN:VEVENT
DTSTART;TZID=America/Vancouver:20180512T190000
DTEND;TZID=America/Vancouver:20180512T220000
DTSTAMP:20260423T093957
CREATED:20180320T205318Z
LAST-MODIFIED:20180320T205318Z
UID:2739-1526151600-1526162400@dev.explorewhiterock.com
SUMMARY:The Journeymen
DESCRIPTION:Nothing is more central to rock mythology than the cult of the lead guitarist. No-one has done more to create that cult then Eric Clapton and Carlos Santana. “The Journeymen” is an homage to two of the most significant guitarists in history. \nClapton has been referred to as one of the most important and influential guitarists of all time. He is the only three-time inductee to the Rock & Roll Hall of Fame and an 18 time Grammy award winner. He has sold more than 130 million records worldwide. \nSantana is a Latin rock icon. From his seminal performance at 1969’s Woodstock to 2000’s album of the year Supernatural and beyond\, Santana has been at the forefront of rock guitar. With over 100 million albums sold\, he is the best selling Latin artist on record. \n“The Journeymen” details more than 100 years combined with incredible artistry and musicianship from these two guitar legends. \nBand leader TL Douglas brings a collection of some of the finest musicians from Canada’s west coast for an evening of guitar magic.
URL:https://dev.explorewhiterock.com/event/the-journeymen/
LOCATION:Blue Frog Studio\, 1328 Johnston Road\, White Rock\, BC\, V4B 3Z2\, Canada
CATEGORIES:Music
END:VEVENT
END:VCALENDAR